BEGIN:VCALENDAR
VERSION:2.0
PRODID:-//Mallassepät - ECPv6.15.17//NONSGML v1.0//EN
CALSCALE:GREGORIAN
METHOD:PUBLISH
X-WR-CALNAME:Mallassepät
X-ORIGINAL-URL:https://mallassepat.fi
X-WR-CALDESC:Tapahtumat Mallassepät
REFRESH-INTERVAL;VALUE=DURATION:PT1H
X-Robots-Tag:noindex
X-PUBLISHED-TTL:PT1H
BEGIN:VTIMEZONE
TZID:Europe/Helsinki
BEGIN:DAYLIGHT
TZOFFSETFROM:+0200
TZOFFSETTO:+0300
TZNAME:EEST
DTSTART:20230326T010000
END:DAYLIGHT
BEGIN:STANDARD
TZOFFSETFROM:+0300
TZOFFSETTO:+0200
TZNAME:EET
DTSTART:20231029T010000
END:STANDARD
BEGIN:DAYLIGHT
TZOFFSETFROM:+0200
TZOFFSETTO:+0300
TZNAME:EEST
DTSTART:20240331T010000
END:DAYLIGHT
BEGIN:STANDARD
TZOFFSETFROM:+0300
TZOFFSETTO:+0200
TZNAME:EET
DTSTART:20241027T010000
END:STANDARD
BEGIN:DAYLIGHT
TZOFFSETFROM:+0200
TZOFFSETTO:+0300
TZNAME:EEST
DTSTART:20250330T010000
END:DAYLIGHT
BEGIN:STANDARD
TZOFFSETFROM:+0300
TZOFFSETTO:+0200
TZNAME:EET
DTSTART:20251026T010000
END:STANDARD
BEGIN:DAYLIGHT
TZOFFSETFROM:+0200
TZOFFSETTO:+0300
TZNAME:EEST
DTSTART:20260329T010000
END:DAYLIGHT
BEGIN:STANDARD
TZOFFSETFROM:+0300
TZOFFSETTO:+0200
TZNAME:EET
DTSTART:20261025T010000
END:STANDARD
END:VTIMEZONE
BEGIN:VEVENT
DTSTART;TZID=Europe/Helsinki:20250111T120000
DTEND;TZID=Europe/Helsinki:20250111T235900
DTSTAMP:20260421T221311
CREATED:20241205T140648Z
LAST-MODIFIED:20241205T145959Z
UID:10000122-1736596800-1736639940@mallassepat.fi
SUMMARY:Mallassepät 7-vuotisjuhlat!
DESCRIPTION:Tammikuussa juhlitaan kun Mallassepät täyttää 7 vuotta\, ja Taproom Takomo yhden! \nPäivän aikataulu\n\nOvet avataan / 12:00\nHappy hour / 12:00-16:00\nLyhennetty panimokierros 45min (15€) / 16:00\nOlutvisa ja muuta ohjelmaa / 18:00\nLyhennetty panimokierros 45min (15€) / 19:00\nTakomo Live / FARAH / 20:00 & 22:00\n\n”Farah on nelihenkinen bändi Turusta\, jonka musiikki on soljuilevan groovaavaa musiikkia maustettuna mm. soulilla\, rockilla\, funkilla ja popilla.”\n\n\nValomerkki / 23:30\nOvet suljetaan / 00:00\n\nHinnat\n\nSisäänpääsyliput 15 €. Osta omasi ennakkoon panimon tiskiltä!\nLyhennetylle panimokierrokselle osallistuminen 15 € / kierros (vaatii myös sisäänpääsylipun).\n\n  \nLisätietoja: shop@mallassepat.fi
URL:https://mallassepat.fi/tapahtuma/mallassepat-7-vuotisjuhlat/
LOCATION:Mallassepät\, Lietsalantie 11\, Naantali\, 21110\, Finland
CATEGORIES:Live-musiikkia,Panimokierros
ATTACH;FMTTYPE=image/png:https://mallassepat.fi/wp-content/uploads/2024/12/7V-bileet.png
ORGANIZER;CN="Mallassep%C3%A4t":MAILTO:shop@mallassepat.fi
END:VEVENT
BEGIN:VEVENT
DTSTART;TZID=Europe/Helsinki:20241213T173000
DTEND;TZID=Europe/Helsinki:20241213T200000
DTSTAMP:20260421T221311
CREATED:20241205T113401Z
LAST-MODIFIED:20241205T145039Z
UID:10000121-1734111000-1734120000@mallassepat.fi
SUMMARY:Turku Distillery Tasting
DESCRIPTION:13.12. Taproom Takomolla maistellaan Turku Distilleryn tisleitä! \nLippuja voi ostaa yhdistelmälippuna panimokierroksen kanssa alennettuun hintaan 45\,- taikka erillisinä lippuina\, Turku Distillery tasting / 30\,- ja panimokierros 25\,-. \nTasting sisältää 4 kaatoa\, 2 x 2cl vodkaa\, sekä 2 x 2cl likööriä. Lisätietoja voit kysellä shop@mallassepat.fi \nPanimokierros sisältää 4x2dl olutta\, sekä loppupäiväksi -10% Taproomilla nautituista tuotteista. \n17:30 Panimokierros\n18:30 Turku Distillery tasting \nLipunmyynti ennakkoon Taproomin tiskiltä.Tervetuloa!
URL:https://mallassepat.fi/tapahtuma/turku-distillery-tasting/
LOCATION:Mallassepät\, Lietsalantie 11\, Naantali\, 21110\, Finland
CATEGORIES:Panimokierros,Tasting
ATTACH;FMTTYPE=image/png:https://mallassepat.fi/wp-content/uploads/2024/12/Tukudistillery-tasting.png
ORGANIZER;CN="Mallassep%C3%A4t":MAILTO:shop@mallassepat.fi
END:VEVENT
BEGIN:VEVENT
DTSTART;TZID=Europe/Helsinki:20241213T173000
DTEND;TZID=Europe/Helsinki:20241213T190000
DTSTAMP:20260421T221311
CREATED:20241205T112555Z
LAST-MODIFIED:20241205T134442Z
UID:10000003-1734111000-1734116400@mallassepat.fi
SUMMARY:Avoin Panimokierros
DESCRIPTION:Haluatko päästä kurkistamaan oluen valmistuksen kulissien taakse? Liity mukaan panimokierroksellemme! Kierroksella tutustut oluen valmistuksen eri vaiheisiin\, raaka-aineisiin ja mallasseppien tuotteisiin. Opit\, miten oluet saavat ainutlaatuiset makunsa ja arominsa. \nJulkiset eli kaikille avoimet panimokierrokset järjestetään poikkeuksia lukuun ottamatta joka kuukauden ensimmäinen perjantai. \n\nKesto: Noin 1\,5 tuntia\nHinta: 30 € / henkilö\nSisältö: Kierros panimolla\, jossa tutustutaan oluen valmistukseen\, raaka-aineisiin\, panimon toimintaan ja laitteistoon. Ja tietenkin maistiaisia sekä kysymyksiä ja vastauksia!\nVaraukset: shop@mallassepat.fi (ei pakollinen)\n\nYksityiskierroksia voit tiedustella sähköpostilla osoitteesta shop@mallassepat.fi.
URL:https://mallassepat.fi/tapahtuma/avoin-panimokierros-marraskuu-2024-2-2/
LOCATION:Mallassepät\, Lietsalantie 11\, Naantali\, 21110\, Finland
CATEGORIES:Panimokierros
ATTACH;FMTTYPE=image/png:https://mallassepat.fi/wp-content/uploads/2024/12/Mallassepat-logo-text-naantali-finland-Copy.png
ORGANIZER;CN="Mallassep%C3%A4t":MAILTO:shop@mallassepat.fi
END:VEVENT
BEGIN:VEVENT
DTSTART;TZID=Europe/Helsinki:20241101T173000
DTEND;TZID=Europe/Helsinki:20241101T190000
DTSTAMP:20260421T221311
CREATED:20241024T090937Z
LAST-MODIFIED:20241030T142332Z
UID:10000002-1730482200-1730487600@mallassepat.fi
SUMMARY:Avoin Panimokierros Marraskuu 2024
DESCRIPTION:Haluatko päästä kurkistamaan oluen valmistuksen kulissien taakse? Liity mukaan panimokierroksellemme! Kierroksella tutustut oluen valmistuksen eri vaiheisiin\, raaka-aineisiin ja mallasseppien tuotteisiin. Opit\, miten oluet saavat ainutlaatuiset makunsa ja arominsa. \nJulkiset eli kaikille avoimet panimokierrokset järjestetään poikkeuksia lukuun ottamatta joka kuukauden ensimmäinen perjantai. \n\nKesto: Noin 1\,5 tuntia\nHinta: 30 € / henkilö\nSisältö: Kierros panimolla\, jossa tutustutaan oluen valmistukseen\, raaka-aineisiin\, panimon toimintaan ja laitteistoon. Ja tietenkin maistiaisia sekä kysymyksiä ja vastauksia!\nVaraukset: shop@mallassepat.fi (ei pakollinen)\n\nYksityiskierroksia voit tiedustella sähköpostilla osoitteesta shop@mallassepat.fi.
URL:https://mallassepat.fi/tapahtuma/avoin-panimokierros-marraskuu-2024/
LOCATION:Mallassepät\, Lietsalantie 11\, Naantali\, 21110\, Finland
ATTACH;FMTTYPE=image/jpeg:https://mallassepat.fi/wp-content/uploads/2024/10/IMG_0352-scaled-e1729691849537.jpg
ORGANIZER;CN="Mallassep%C3%A4t":MAILTO:shop@mallassepat.fi
END:VEVENT
END:VCALENDAR